Package: MultiBaC Version: 1.20.0 Command: rm -rf MultiBaC.buildbin-libdir && mkdir MultiBaC.buildbin-libdir && /Users/biocbuild/BBS/utils/build-universal.sh MultiBaC_1.20.0.tar.gz /Library/Frameworks/R.framework/Resources/bin/R MultiBaC.buildbin-libdir StartedAt: 2025-11-10 23:28:48 -0500 (Mon, 10 Nov 2025) EndedAt: 2025-11-10 23:28:51 -0500 (Mon, 10 Nov 2025) EllapsedTime: 3.1 seconds RetCode: 0 Status: OK PackageFile: MultiBaC_1.20.0.tgz PackageFileSize: 1.807 MiB