Package: MultiAssayExperiment Version: 1.35.9 Command: /home/biocbuild/bbs-3.22-bioc/R/bin/R CMD INSTALL MultiAssayExperiment StartedAt: 2025-10-24 15:30:27 -0400 (Fri, 24 Oct 2025) EndedAt: 2025-10-24 15:30:59 -0400 (Fri, 24 Oct 2025) EllapsedTime: 31.9 seconds RetCode: 0 Status: OK