Package: MultiAssayExperiment Version: 1.35.9 Command: /home/biocbuild/bbs-3.22-bioc/R/bin/R CMD build --keep-empty-dirs --no-resave-data --md5 MultiAssayExperiment StartedAt: 2025-10-24 19:04:49 -0400 (Fri, 24 Oct 2025) EndedAt: 2025-10-24 19:05:51 -0400 (Fri, 24 Oct 2025) EllapsedTime: 61.1 seconds RetCode: 0 Status: OK PackageFile: MultiAssayExperiment_1.35.9.tar.gz PackageFileSize: 1.322 MiB