Package: MultiAssayExperiment Version: 1.36.0 Command: /Library/Frameworks/R.framework/Resources/bin/R CMD INSTALL MultiAssayExperiment StartedAt: 2025-11-10 15:12:57 -0500 (Mon, 10 Nov 2025) EndedAt: 2025-11-10 15:13:10 -0500 (Mon, 10 Nov 2025) EllapsedTime: 12.8 seconds RetCode: 0 Status: OK