Package: MuData Version: 1.14.0 Command: /Library/Frameworks/R.framework/Resources/bin/R CMD INSTALL MuData StartedAt: 2025-11-10 15:13:11 -0500 (Mon, 10 Nov 2025) EndedAt: 2025-11-10 15:13:21 -0500 (Mon, 10 Nov 2025) EllapsedTime: 9.8 seconds RetCode: 0 Status: OK