Package: MuData Version: 1.14.0 Command: /Library/Frameworks/R.framework/Resources/bin/R CMD build --keep-empty-dirs --no-resave-data MuData StartedAt: 2025-11-10 17:10:08 -0500 (Mon, 10 Nov 2025) EndedAt: 2025-11-10 17:11:23 -0500 (Mon, 10 Nov 2025) EllapsedTime: 74.9 seconds RetCode: 0 Status: OK PackageFile: MuData_1.14.0.tar.gz PackageFileSize: 2.2 MiB