Package: MuData Version: 1.14.0 Command: rm -rf MuData.buildbin-libdir && mkdir MuData.buildbin-libdir && /Users/biocbuild/BBS/utils/build-universal.sh MuData_1.14.0.tar.gz /Library/Frameworks/R.framework/Resources/bin/R MuData.buildbin-libdir StartedAt: 2025-11-10 23:28:46 -0500 (Mon, 10 Nov 2025) EndedAt: 2025-11-10 23:28:57 -0500 (Mon, 10 Nov 2025) EllapsedTime: 11.3 seconds RetCode: 0 Status: OK PackageFile: MuData_1.14.0.tgz PackageFileSize: 2.259 MiB