Package: MsQuality Version: 1.10.0 Command: /home/biocbuild/bbs-3.22-bioc/R/bin/R CMD INSTALL MsQuality StartedAt: 2025-11-06 15:37:54 -0500 (Thu, 06 Nov 2025) EndedAt: 2025-11-06 15:38:28 -0500 (Thu, 06 Nov 2025) EllapsedTime: 34.1 seconds RetCode: 0 Status: OK