Package: MsQuality Version: 1.10.0 Command: /home/biocbuild/bbs-3.22-bioc/R/bin/R CMD build --keep-empty-dirs --no-resave-data --md5 MsQuality StartedAt: 2025-11-06 18:54:31 -0500 (Thu, 06 Nov 2025) EndedAt: 2025-11-06 18:55:32 -0500 (Thu, 06 Nov 2025) EllapsedTime: 61.0 seconds RetCode: 0 Status: OK PackageFile: MsQuality_1.10.0.tar.gz PackageFileSize: 4.244 MiB