Package: MsFeatures Version: 1.18.0 Command: /Library/Frameworks/R.framework/Resources/bin/R CMD INSTALL MsFeatures StartedAt: 2025-11-03 15:28:15 -0500 (Mon, 03 Nov 2025) EndedAt: 2025-11-03 15:28:46 -0500 (Mon, 03 Nov 2025) EllapsedTime: 31.5 seconds RetCode: 0 Status: OK