Package: MsFeatures Version: 1.18.0 Command: /Library/Frameworks/R.framework/Resources/bin/R CMD build --keep-empty-dirs --no-resave-data MsFeatures StartedAt: 2025-11-03 17:54:50 -0500 (Mon, 03 Nov 2025) EndedAt: 2025-11-03 17:55:40 -0500 (Mon, 03 Nov 2025) EllapsedTime: 50.3 seconds RetCode: 0 Status: OK PackageFile: MsFeatures_1.18.0.tar.gz PackageFileSize: 1.219 MiB