Package: MsFeatures Version: 1.18.0 Command: /Library/Frameworks/R.framework/Resources/bin/R CMD INSTALL MsFeatures StartedAt: 2025-11-17 17:35:09 -0500 (Mon, 17 Nov 2025) EndedAt: 2025-11-17 17:35:17 -0500 (Mon, 17 Nov 2025) EllapsedTime: 8.0 seconds RetCode: 0 Status: OK