Package: MsFeatures Version: 1.18.0 Command: /Library/Frameworks/R.framework/Resources/bin/R CMD build --keep-empty-dirs --no-resave-data MsFeatures StartedAt: 2025-11-17 23:07:40 -0500 (Mon, 17 Nov 2025) EndedAt: 2025-11-17 23:07:55 -0500 (Mon, 17 Nov 2025) EllapsedTime: 15.1 seconds RetCode: 0 Status: OK PackageFile: MsFeatures_1.18.0.tar.gz PackageFileSize: 1.219 MiB