Package: MsExperiment Version: 1.12.0 Command: /home/biocbuild/bbs-3.22-bioc/R/bin/R CMD INSTALL MsExperiment StartedAt: 2025-10-31 15:45:19 -0400 (Fri, 31 Oct 2025) EndedAt: 2025-10-31 15:45:54 -0400 (Fri, 31 Oct 2025) EllapsedTime: 35.0 seconds RetCode: 0 Status: OK