Package: MsExperiment Version: 1.12.0 Command: /home/biocbuild/bbs-3.22-bioc/R/bin/R CMD build --keep-empty-dirs --no-resave-data --md5 MsExperiment StartedAt: 2025-10-31 19:02:23 -0400 (Fri, 31 Oct 2025) EndedAt: 2025-10-31 19:03:25 -0400 (Fri, 31 Oct 2025) EllapsedTime: 62.0 seconds RetCode: 0 Status: OK PackageFile: MsExperiment_1.12.0.tar.gz PackageFileSize: 1.918 MiB