Package: MsCoreUtils Version: 1.21.0 Command: /home/biocbuild/bbs-3.22-bioc/R/bin/R CMD check --install=check:MsCoreUtils.install-out.txt --library=/home/biocbuild/bbs-3.22-bioc/R/site-library --timings MsCoreUtils_1.21.0.tar.gz StartedAt: 2025-10-28 01:51:24 -0400 (Tue, 28 Oct 2025) EndedAt: 2025-10-28 01:52:45 -0400 (Tue, 28 Oct 2025) EllapsedTime: 81.1 seconds RetCode: 1 Status: ERROR CheckDir: MsCoreUtils.Rcheck Warnings: NA