Package: MsCoreUtils Version: 1.21.0 Command: /Library/Frameworks/R.framework/Resources/bin/R CMD build --keep-empty-dirs --no-resave-data MsCoreUtils StartedAt: 2025-10-24 17:56:27 -0400 (Fri, 24 Oct 2025) EndedAt: 2025-10-24 17:56:45 -0400 (Fri, 24 Oct 2025) EllapsedTime: 17.1 seconds RetCode: 0 Status: OK PackageFile: MsCoreUtils_1.21.0.tar.gz PackageFileSize: 414.2 KiB