Package: MsCoreUtils Version: 1.21.0 Command: rm -rf MsCoreUtils.buildbin-libdir && mkdir MsCoreUtils.buildbin-libdir && /Users/biocbuild/BBS/utils/build-universal.sh MsCoreUtils_1.21.0.tar.gz /Library/Frameworks/R.framework/Resources/bin/R MsCoreUtils.buildbin-libdir StartedAt: 2025-10-26 22:42:11 -0400 (Sun, 26 Oct 2025) EndedAt: 2025-10-26 22:42:15 -0400 (Sun, 26 Oct 2025) EllapsedTime: 4.1 seconds RetCode: 0 Status: OK PackageFile: MsCoreUtils_1.21.0.tgz PackageFileSize: 538.4 KiB