Package: MsBackendSql Version: 1.10.1 Command: /home/biocbuild/R/R/bin/R CMD INSTALL MsBackendSql StartedAt: 2025-11-17 21:20:45 -0000 (Mon, 17 Nov 2025) EndedAt: 2025-11-17 21:21:03 -0000 (Mon, 17 Nov 2025) EllapsedTime: 18.7 seconds RetCode: 0 Status: OK