Package: MsBackendSql Version: 1.10.1 Command: /home/biocbuild/R/R/bin/R CMD build --keep-empty-dirs --no-resave-data MsBackendSql StartedAt: 2025-11-18 03:25:50 -0000 (Tue, 18 Nov 2025) EndedAt: 2025-11-18 03:27:05 -0000 (Tue, 18 Nov 2025) EllapsedTime: 75.1 seconds RetCode: 0 Status: OK PackageFile: MsBackendSql_1.10.1.tar.gz PackageFileSize: 414.3 KiB