Package: MsBackendSql Version: 1.9.4 Command: /home/biocbuild/bbs-3.22-bioc/R/bin/R CMD INSTALL MsBackendSql StartedAt: 2025-10-24 15:25:04 -0400 (Fri, 24 Oct 2025) EndedAt: 2025-10-24 15:25:17 -0400 (Fri, 24 Oct 2025) EllapsedTime: 13.4 seconds RetCode: 0 Status: OK