Package: MsBackendSql Version: 1.10.0 Maintainer: Johannes Rainer MaintainerEmail: Johannes.Rainer at eurac.edu git_url: https://git.bioconductor.org/packages/MsBackendSql git_branch: RELEASE_3_22 git_last_commit: 1d3a770 git_last_commit_date: 2025-10-29 11:20:33 -0400 (Wed, 29 Oct 2025)