Package: MsBackendRawFileReader Version: 1.15.1 Command: /home/biocbuild/bbs-3.22-bioc/R/bin/R CMD check --install=check:MsBackendRawFileReader.install-out.txt --library=/home/biocbuild/bbs-3.22-bioc/R/site-library --timings MsBackendRawFileReader_1.15.1.tar.gz StartedAt: 2025-10-25 01:52:58 -0400 (Sat, 25 Oct 2025) EndedAt: 2025-10-25 01:57:40 -0400 (Sat, 25 Oct 2025) EllapsedTime: 281.2 seconds RetCode: 0 Status: OK CheckDir: MsBackendRawFileReader.Rcheck Warnings: 0