Package: MsBackendRawFileReader Version: 1.15.1 Command: /home/biocbuild/bbs-3.22-bioc/R/bin/R CMD build --keep-empty-dirs --no-resave-data --md5 MsBackendRawFileReader StartedAt: 2025-10-24 19:00:48 -0400 (Fri, 24 Oct 2025) EndedAt: 2025-10-24 19:02:31 -0400 (Fri, 24 Oct 2025) EllapsedTime: 103.1 seconds RetCode: 0 Status: OK PackageFile: MsBackendRawFileReader_1.15.1.tar.gz PackageFileSize: 1.596 MiB