Package: MsBackendRawFileReader Version: 1.16.0 Command: /Library/Frameworks/R.framework/Resources/bin/R CMD check --install=check:MsBackendRawFileReader.install-out.txt --library=/Library/Frameworks/R.framework/Resources/library --no-vignettes --timings MsBackendRawFileReader_1.16.0.tar.gz StartedAt: 2025-11-10 21:12:06 -0500 (Mon, 10 Nov 2025) EndedAt: 2025-11-10 21:14:24 -0500 (Mon, 10 Nov 2025) EllapsedTime: 137.7 seconds RetCode: 0 Status: OK CheckDir: MsBackendRawFileReader.Rcheck Warnings: 0