Package: MsBackendMsp Version: 1.14.0 Command: /Library/Frameworks/R.framework/Resources/bin/R CMD INSTALL MsBackendMsp StartedAt: 2025-11-17 17:15:57 -0500 (Mon, 17 Nov 2025) EndedAt: 2025-11-17 17:16:31 -0500 (Mon, 17 Nov 2025) EllapsedTime: 33.9 seconds RetCode: 0 Status: OK