Package: MsBackendMsp Version: 1.14.0 Command: /Library/Frameworks/R.framework/Resources/bin/R CMD build --keep-empty-dirs --no-resave-data MsBackendMsp StartedAt: 2025-11-18 00:22:35 -0500 (Tue, 18 Nov 2025) EndedAt: 2025-11-18 00:23:15 -0500 (Tue, 18 Nov 2025) EllapsedTime: 40.1 seconds RetCode: 0 Status: OK PackageFile: MsBackendMsp_1.14.0.tar.gz PackageFileSize: 324.7 KiB