Package: MsBackendMsp Version: 1.14.0 Command: rm -rf MsBackendMsp.buildbin-libdir && mkdir MsBackendMsp.buildbin-libdir && /Users/biocbuild/BBS/utils/build-universal.sh MsBackendMsp_1.14.0.tar.gz /Library/Frameworks/R.framework/Resources/bin/R MsBackendMsp.buildbin-libdir StartedAt: 2025-11-18 18:06:40 -0500 (Tue, 18 Nov 2025) EndedAt: 2025-11-18 18:07:03 -0500 (Tue, 18 Nov 2025) EllapsedTime: 23.3 seconds RetCode: 0 Status: OK PackageFile: MsBackendMsp_1.14.0.tgz PackageFileSize: 366.6 KiB