Package: MsBackendMsp Version: 1.14.0 Command: /Library/Frameworks/R.framework/Resources/bin/R CMD INSTALL MsBackendMsp StartedAt: 2025-11-03 15:21:26 -0500 (Mon, 03 Nov 2025) EndedAt: 2025-11-03 15:21:45 -0500 (Mon, 03 Nov 2025) EllapsedTime: 18.9 seconds RetCode: 0 Status: OK