Package: MsBackendMsp Version: 1.14.0 Command: /Library/Frameworks/R.framework/Resources/bin/R CMD build --keep-empty-dirs --no-resave-data MsBackendMsp StartedAt: 2025-11-03 17:54:19 -0500 (Mon, 03 Nov 2025) EndedAt: 2025-11-03 17:54:44 -0500 (Mon, 03 Nov 2025) EllapsedTime: 25.1 seconds RetCode: 0 Status: OK PackageFile: MsBackendMsp_1.14.0.tar.gz PackageFileSize: 324.7 KiB