Package: MsBackendMetaboLights Version: 1.4.2 Command: /Library/Frameworks/R.framework/Resources/bin/R CMD INSTALL MsBackendMetaboLights StartedAt: 2025-11-10 15:07:44 -0500 (Mon, 10 Nov 2025) EndedAt: 2025-11-10 15:07:51 -0500 (Mon, 10 Nov 2025) EllapsedTime: 6.4 seconds RetCode: 0 Status: OK