Package: MsBackendMetaboLights Version: 1.4.2 Command: /Library/Frameworks/R.framework/Resources/bin/R CMD build --keep-empty-dirs --no-resave-data MsBackendMetaboLights StartedAt: 2025-11-10 17:08:07 -0500 (Mon, 10 Nov 2025) EndedAt: 2025-11-10 17:08:40 -0500 (Mon, 10 Nov 2025) EllapsedTime: 33.4 seconds RetCode: 0 Status: OK PackageFile: MsBackendMetaboLights_1.4.2.tar.gz PackageFileSize: 310.9 KiB