Package: MsBackendMassbank Version: 1.17.1 Command: /home/biocbuild/bbs-3.22-bioc/R/bin/R CMD INSTALL MsBackendMassbank StartedAt: 2025-10-24 15:25:14 -0400 (Fri, 24 Oct 2025) EndedAt: 2025-10-24 15:25:25 -0400 (Fri, 24 Oct 2025) EllapsedTime: 11.3 seconds RetCode: 0 Status: OK