Package: MoonlightR Version: 1.36.0 Command: /home/biocbuild/bbs-3.22-bioc/R/bin/R CMD INSTALL MoonlightR StartedAt: 2025-11-02 16:04:01 -0500 (Sun, 02 Nov 2025) EndedAt: 2025-11-02 16:04:55 -0500 (Sun, 02 Nov 2025) EllapsedTime: 53.8 seconds RetCode: 0 Status: OK