Package: MoonlightR Version: 1.36.0 Command: /home/biocbuild/bbs-3.22-bioc/R/bin/R CMD build --keep-empty-dirs --no-resave-data --md5 MoonlightR StartedAt: 2025-11-02 19:03:47 -0500 (Sun, 02 Nov 2025) EndedAt: 2025-11-02 19:05:47 -0500 (Sun, 02 Nov 2025) EllapsedTime: 120.1 seconds RetCode: 0 Status: OK PackageFile: MoonlightR_1.36.0.tar.gz PackageFileSize: 14.75 MiB