Package: Moonlight2R Version: 1.8.0 Command: /home/biocbuild/bbs-3.22-bioc/R/bin/R CMD INSTALL Moonlight2R StartedAt: 2025-11-17 18:07:05 -0500 (Mon, 17 Nov 2025) EndedAt: 2025-11-17 18:08:06 -0500 (Mon, 17 Nov 2025) EllapsedTime: 60.8 seconds RetCode: 0 Status: OK