Package: Moonlight2R Version: 1.8.0 Command: /home/biocbuild/bbs-3.22-bioc/R/bin/R CMD build --keep-empty-dirs --no-resave-data --md5 Moonlight2R StartedAt: 2025-11-17 22:10:51 -0500 (Mon, 17 Nov 2025) EndedAt: 2025-11-17 22:17:07 -0500 (Mon, 17 Nov 2025) EllapsedTime: 376.3 seconds RetCode: 0 Status: OK PackageFile: Moonlight2R_1.8.0.tar.gz PackageFileSize: 4.949 MiB