Package: MoleculeExperiment Version: 1.10.0 Command: /home/biocbuild/bbs-3.22-bioc/R/bin/R CMD INSTALL MoleculeExperiment StartedAt: 2025-11-02 15:33:04 -0500 (Sun, 02 Nov 2025) EndedAt: 2025-11-02 15:33:59 -0500 (Sun, 02 Nov 2025) EllapsedTime: 54.4 seconds RetCode: 0 Status: OK