Package: MoleculeExperiment Version: 1.10.0 Command: /home/biocbuild/bbs-3.22-bioc/R/bin/R CMD build --keep-empty-dirs --no-resave-data --md5 MoleculeExperiment StartedAt: 2025-11-02 19:02:51 -0500 (Sun, 02 Nov 2025) EndedAt: 2025-11-02 19:04:42 -0500 (Sun, 02 Nov 2025) EllapsedTime: 111.1 seconds RetCode: 0 Status: OK PackageFile: MoleculeExperiment_1.10.0.tar.gz PackageFileSize: 15.59 MiB