Package: Modstrings Version: 1.25.0 Command: /home/biocbuild/bbs-3.22-bioc/R/bin/R CMD check --install=check:Modstrings.install-out.txt --library=/home/biocbuild/bbs-3.22-bioc/R/site-library --timings Modstrings_1.25.0.tar.gz StartedAt: 2025-10-25 01:42:41 -0400 (Sat, 25 Oct 2025) EndedAt: 2025-10-25 01:45:04 -0400 (Sat, 25 Oct 2025) EllapsedTime: 143.1 seconds RetCode: 0 Status: OK CheckDir: Modstrings.Rcheck Warnings: 0