Package: Modstrings Version: 1.26.0 Command: /Library/Frameworks/R.framework/Resources/bin/R CMD INSTALL Modstrings StartedAt: 2025-11-17 17:25:07 -0500 (Mon, 17 Nov 2025) EndedAt: 2025-11-17 17:25:14 -0500 (Mon, 17 Nov 2025) EllapsedTime: 6.6 seconds RetCode: 0 Status: OK