Package: Modstrings Version: 1.26.0 Command: /Library/Frameworks/R.framework/Resources/bin/R CMD check --install=check:Modstrings.install-out.txt --library=/Library/Frameworks/R.framework/Resources/library --no-vignettes --timings Modstrings_1.26.0.tar.gz StartedAt: 2025-11-26 14:52:35 -0500 (Wed, 26 Nov 2025) EndedAt: 2025-11-26 14:56:28 -0500 (Wed, 26 Nov 2025) EllapsedTime: 233.0 seconds RetCode: 0 Status: OK CheckDir: Modstrings.Rcheck Warnings: 0