Package: Modstrings Version: 1.26.0 Command: rm -rf Modstrings.buildbin-libdir && mkdir Modstrings.buildbin-libdir && /Users/biocbuild/BBS/utils/build-universal.sh Modstrings_1.26.0.tar.gz /Library/Frameworks/R.framework/Resources/bin/R Modstrings.buildbin-libdir StartedAt: 2025-11-18 15:56:15 -0500 (Tue, 18 Nov 2025) EndedAt: 2025-11-18 15:56:24 -0500 (Tue, 18 Nov 2025) EllapsedTime: 9.2 seconds RetCode: 0 Status: OK PackageFile: Modstrings_1.26.0.tgz PackageFileSize: 1.355 MiB