Package: ModCon Version: 1.17.0 Command: /home/biocbuild/R/R/bin/R CMD build --keep-empty-dirs --no-resave-data ModCon StartedAt: 2025-10-21 01:23:09 -0000 (Tue, 21 Oct 2025) EndedAt: 2025-10-21 01:25:55 -0000 (Tue, 21 Oct 2025) EllapsedTime: 166.1 seconds RetCode: 0 Status: OK PackageFile: ModCon_1.17.0.tar.gz PackageFileSize: 1.932 MiB