Package: ModCon Version: 1.18.0 Command: /home/biocbuild/bbs-3.22-bioc/R/bin/R CMD check --install=check:ModCon.install-out.txt --library=/home/biocbuild/bbs-3.22-bioc/R/site-library --timings ModCon_1.18.0.tar.gz StartedAt: 2025-10-30 07:58:13 -0400 (Thu, 30 Oct 2025) EndedAt: 2025-10-30 08:03:43 -0400 (Thu, 30 Oct 2025) EllapsedTime: 330.3 seconds RetCode: 0 Status: OK CheckDir: ModCon.Rcheck Warnings: 0