Package: ModCon Version: 1.18.0 Command: /Library/Frameworks/R.framework/Resources/bin/R CMD build --keep-empty-dirs --no-resave-data ModCon StartedAt: 2025-11-18 00:10:59 -0500 (Tue, 18 Nov 2025) EndedAt: 2025-11-18 00:15:25 -0500 (Tue, 18 Nov 2025) EllapsedTime: 266.0 seconds RetCode: 0 Status: OK PackageFile: ModCon_1.18.0.tar.gz PackageFileSize: 1.912 MiB