Package: ModCon Version: 1.18.0 Command: rm -rf ModCon.buildbin-libdir && mkdir ModCon.buildbin-libdir && /Users/biocbuild/BBS/utils/build-universal.sh ModCon_1.18.0.tar.gz /Library/Frameworks/R.framework/Resources/bin/R ModCon.buildbin-libdir StartedAt: 2025-11-18 18:04:05 -0500 (Tue, 18 Nov 2025) EndedAt: 2025-11-18 18:04:22 -0500 (Tue, 18 Nov 2025) EllapsedTime: 17.2 seconds RetCode: 0 Status: OK PackageFile: ModCon_1.18.0.tgz PackageFileSize: 1.957 MiB