Package: ModCon Version: 1.18.0 Command: /Library/Frameworks/R.framework/Resources/bin/R CMD build --keep-empty-dirs --no-resave-data ModCon StartedAt: 2025-11-17 22:59:44 -0500 (Mon, 17 Nov 2025) EndedAt: 2025-11-17 23:00:23 -0500 (Mon, 17 Nov 2025) EllapsedTime: 39.4 seconds RetCode: 0 Status: OK PackageFile: ModCon_1.18.0.tar.gz PackageFileSize: 1.912 MiB