Package: MinimumDistance Version: 1.53.1 Command: /home/biocbuild/bbs-3.22-bioc/R/bin/R CMD INSTALL MinimumDistance StartedAt: 2025-10-24 15:45:45 -0400 (Fri, 24 Oct 2025) EndedAt: 2025-10-24 15:46:35 -0400 (Fri, 24 Oct 2025) EllapsedTime: 50.6 seconds RetCode: 0 Status: OK