Package: MicrobiomeProfiler Version: 1.16.0 Command: /home/biocbuild/bbs-3.22-bioc/R/bin/R CMD INSTALL MicrobiomeProfiler StartedAt: 2025-11-17 18:04:48 -0500 (Mon, 17 Nov 2025) EndedAt: 2025-11-17 18:05:11 -0500 (Mon, 17 Nov 2025) EllapsedTime: 23.5 seconds RetCode: 0 Status: OK